BEGIN:VCALENDAR
VERSION:2.0
PRODID:B.A.U.M.events
BEGIN:VTIMEZONE
TZID:Europe/Berlin
X-LIC-LOCATION:Europe/Berlin
BEGIN:DAYLIGHT
TZOFFSETFROM:+0100
TZOFFSETTO:+0200
TZNAME:CET
DTSTART:19700329T020000
RRULE:FREQ=YEARLY;BYDAY=-1SU;BYMONTH=3
END:DAYLIGHT
BEGIN:STANDARD
TZOFFSETFROM:+0200
TZOFFSETTO:+0100
TZNAME:CET
DTSTART:19701025T030000
RRULE:FREQ=YEARLY;BYDAY=-1SU;BYMONTH=10
END:STANDARD
END:VTIMEZONE
BEGIN:VEVENT
UID:0001148@events.baumgroup.de
LOCATION:Konferenzraum 3, Congressforum Frankenthal, Stephan-Cosacchi-Platz 5
SUMMARY:Öffentliche Auftaktveranstaltung zum Klimaanpassungskonzept (KLAK) Frankenthal
DESCRIPTION:\n\nLink: https://events.baumgroup.de/Frankenthal\n
DTSTART;TZID=Europe/Berlin:20251008T173000
DTEND;TZID=Europe/Berlin:20251008T203000
DTSTAMP:20210113T175739
END:VEVENT
END:VCALENDAR