BEGIN:VCALENDAR
VERSION:2.0
PRODID:B.A.U.M.events
BEGIN:VTIMEZONE
TZID:Europe/Berlin
X-LIC-LOCATION:Europe/Berlin
BEGIN:DAYLIGHT
TZOFFSETFROM:+0100
TZOFFSETTO:+0200
TZNAME:CET
DTSTART:19700329T020000
RRULE:FREQ=YEARLY;BYDAY=-1SU;BYMONTH=3
END:DAYLIGHT
BEGIN:STANDARD
TZOFFSETFROM:+0200
TZOFFSETTO:+0100
TZNAME:CET
DTSTART:19701025T030000
RRULE:FREQ=YEARLY;BYDAY=-1SU;BYMONTH=10
END:STANDARD
END:VTIMEZONE
BEGIN:VEVENT
UID:000139@events.baumgroup.de
LOCATION:Virtuell
SUMMARY:Die Wirkung von Kampagnen für die Mobilitätswende am Beispiel der Europäischen Mobilitätswoche
DESCRIPTION:Die virtuelle Abschlussveranstaltung des UBA Forschungsvorhabens „Ökologische Wirkungsanalyse kommunaler, nicht-investiver Maßnahmen im Verkehr“ stellt die Europäische Mobilitätswoche in den Mittelpunkt\n\nLink: https://events.baumgroup.de/UBA_niM_Wirkungen_EMW\n
DTSTART;TZID=Europe/Berlin:20220624T090000
DTEND;TZID=Europe/Berlin:20220624T120000
DTSTAMP:20210113T175739
END:VEVENT
END:VCALENDAR